Package: consICA Version: 2.7.0 Command: /Library/Frameworks/R.framework/Resources/bin/R CMD build --keep-empty-dirs --no-resave-data consICA StartedAt: 2025-07-11 16:30:14 -0400 (Fri, 11 Jul 2025) EndedAt: 2025-07-11 16:31:51 -0400 (Fri, 11 Jul 2025) EllapsedTime: 97.0 seconds RetCode: 0 Status: OK PackageFile: consICA_2.7.0.tar.gz PackageFileSize: 3.492 MiB