Package: consICA Version: 2.7.0 Maintainer: Petr V. Nazarov MaintainerEmail: petr.nazarov at lih.lu git_url: https://git.bioconductor.org/packages/consICA git_branch: devel git_last_commit: 0154252 git_last_commit_date: 2025-04-15 12:55:54 -0400 (Tue, 15 Apr 2025)