Package: condiments Version: 1.17.0 Command: /home/biocbuild/R/R/bin/R CMD check --install=check:condiments.install-out.txt --library=/home/biocbuild/R/R/site-library --no-vignettes --timings condiments_1.17.0.tar.gz StartedAt: 2025-07-04 05:39:33 -0000 (Fri, 04 Jul 2025) EndedAt: 2025-07-04 05:48:03 -0000 (Fri, 04 Jul 2025) EllapsedTime: 510.4 seconds RetCode: 0 Status: OK CheckDir: condiments.Rcheck Warnings: 0