Package: condiments Version: 1.17.0 Command: /Library/Frameworks/R.framework/Resources/bin/R CMD check --install=check:condiments.install-out.txt --library=/Library/Frameworks/R.framework/Resources/library --no-vignettes --timings condiments_1.17.0.tar.gz StartedAt: 2025-07-14 18:39:07 -0400 (Mon, 14 Jul 2025) EndedAt: 2025-07-14 18:41:30 -0400 (Mon, 14 Jul 2025) EllapsedTime: 142.7 seconds RetCode: 0 Status: OK CheckDir: condiments.Rcheck Warnings: 0