Package: comapr Version: 1.13.0 Command: /home/biocbuild/R/R/bin/R CMD INSTALL comapr StartedAt: 2025-06-30 21:11:26 -0000 (Mon, 30 Jun 2025) EndedAt: 2025-06-30 21:12:32 -0000 (Mon, 30 Jun 2025) EllapsedTime: 66.5 seconds RetCode: 0 Status: OK