Package: comapr Version: 1.13.0 Command: /home/biocbuild/R/R/bin/R CMD build --keep-empty-dirs --no-resave-data comapr StartedAt: 2025-06-30 22:45:12 -0000 (Mon, 30 Jun 2025) EndedAt: 2025-06-30 22:46:59 -0000 (Mon, 30 Jun 2025) EllapsedTime: 107.0 seconds RetCode: 0 Status: OK PackageFile: comapr_1.13.0.tar.gz PackageFileSize: 746.2 KiB