Package: comapr Version: 1.13.0 Command: rm -rf comapr.buildbin-libdir && mkdir comapr.buildbin-libdir && /Users/biocbuild/BBS/utils/build-universal.sh comapr_1.13.0.tar.gz /Library/Frameworks/R.framework/Resources/bin/R comapr.buildbin-libdir StartedAt: 2025-06-26 22:12:37 -0400 (Thu, 26 Jun 2025) EndedAt: 2025-06-26 22:13:00 -0400 (Thu, 26 Jun 2025) EllapsedTime: 22.4 seconds RetCode: 0 Status: OK PackageFile: comapr_1.13.0.tgz PackageFileSize: 1.075 MiB