Package: cola Version: 2.15.0 Command: /home/biocbuild/R/R/bin/R CMD check --install=check:cola.install-out.txt --library=/home/biocbuild/R/R/site-library --no-vignettes --timings cola_2.15.0.tar.gz StartedAt: 2025-07-18 05:31:43 -0000 (Fri, 18 Jul 2025) EndedAt: 2025-07-18 05:35:28 -0000 (Fri, 18 Jul 2025) EllapsedTime: 224.2 seconds RetCode: 0 Status: OK CheckDir: cola.Rcheck Warnings: 0