Package: cola Version: 2.15.0 Command: /home/biocbuild/R/R/bin/R CMD build --keep-empty-dirs --no-resave-data cola StartedAt: 2025-07-17 22:55:39 -0000 (Thu, 17 Jul 2025) EndedAt: 2025-07-17 22:56:27 -0000 (Thu, 17 Jul 2025) EllapsedTime: 48.0 seconds RetCode: 0 Status: OK PackageFile: cola_2.15.0.tar.gz PackageFileSize: 3.658 MiB