Package: cola Version: 2.15.0 Command: /home/biocbuild/bbs-3.22-bioc/R/bin/R CMD check --install=check:cola.install-out.txt --library=/home/biocbuild/bbs-3.22-bioc/R/site-library --timings cola_2.15.0.tar.gz StartedAt: 2025-07-14 21:08:11 -0400 (Mon, 14 Jul 2025) EndedAt: 2025-07-14 21:11:02 -0400 (Mon, 14 Jul 2025) EllapsedTime: 171.1 seconds RetCode: 0 Status: OK CheckDir: cola.Rcheck Warnings: 0