Package: cola Version: 2.15.0 Command: /Library/Frameworks/R.framework/Resources/bin/R CMD INSTALL cola StartedAt: 2025-10-06 15:16:20 -0400 (Mon, 06 Oct 2025) EndedAt: 2025-10-06 15:16:53 -0400 (Mon, 06 Oct 2025) EllapsedTime: 33.3 seconds RetCode: 0 Status: OK