Package: cola Version: 2.15.0 Command: /Library/Frameworks/R.framework/Resources/bin/R CMD check --install=check:cola.install-out.txt --library=/Library/Frameworks/R.framework/Resources/library --no-vignettes --timings cola_2.15.0.tar.gz StartedAt: 2025-10-06 20:41:39 -0400 (Mon, 06 Oct 2025) EndedAt: 2025-10-06 20:45:16 -0400 (Mon, 06 Oct 2025) EllapsedTime: 216.9 seconds RetCode: 0 Status: OK CheckDir: cola.Rcheck Warnings: 0