Package: cola Version: 2.15.0 Command: rm -rf cola.buildbin-libdir && mkdir cola.buildbin-libdir && /Users/biocbuild/BBS/utils/build-universal.sh cola_2.15.0.tar.gz /Library/Frameworks/R.framework/Resources/bin/R cola.buildbin-libdir StartedAt: 2025-10-06 22:39:37 -0400 (Mon, 06 Oct 2025) EndedAt: 2025-10-06 22:39:50 -0400 (Mon, 06 Oct 2025) EllapsedTime: 13.3 seconds RetCode: 0 Status: OK PackageFile: cola_2.15.0.tgz PackageFileSize: 4.638 MiB