Package: cogeqc Version: 1.13.0 Command: F:\biocbuild\bbs-3.22-bioc\R\bin\R.exe CMD check --no-multiarch --install=check:cogeqc.install-out.txt --library=F:\biocbuild\bbs-3.22-bioc\R\library --no-vignettes --timings cogeqc_1.13.0.tar.gz StartedAt: 2025-07-12 00:35:11 -0400 (Sat, 12 Jul 2025) EndedAt: 2025-07-12 00:38:11 -0400 (Sat, 12 Jul 2025) EllapsedTime: 179.5 seconds RetCode: 0 Status: OK CheckDir: cogeqc.Rcheck Warnings: 0