Package: cogeqc Version: 1.13.0 Command: /Library/Frameworks/R.framework/Resources/bin/R CMD INSTALL cogeqc StartedAt: 2025-07-13 15:30:52 -0400 (Sun, 13 Jul 2025) EndedAt: 2025-07-13 15:31:12 -0400 (Sun, 13 Jul 2025) EllapsedTime: 20.2 seconds RetCode: 0 Status: OK