Package: cogeqc Version: 1.13.0 Command: /Library/Frameworks/R.framework/Resources/bin/R CMD check --install=check:cogeqc.install-out.txt --library=/Library/Frameworks/R.framework/Resources/library --no-vignettes --timings cogeqc_1.13.0.tar.gz StartedAt: 2025-07-13 19:56:22 -0400 (Sun, 13 Jul 2025) EndedAt: 2025-07-13 19:59:10 -0400 (Sun, 13 Jul 2025) EllapsedTime: 167.5 seconds RetCode: 0 Status: OK CheckDir: cogeqc.Rcheck Warnings: 0