Package: cogeqc Version: 1.13.0 Command: /Library/Frameworks/R.framework/Resources/bin/R CMD build --keep-empty-dirs --no-resave-data cogeqc StartedAt: 2025-07-13 16:31:40 -0400 (Sun, 13 Jul 2025) EndedAt: 2025-07-13 16:33:27 -0400 (Sun, 13 Jul 2025) EllapsedTime: 106.3 seconds RetCode: 0 Status: OK PackageFile: cogeqc_1.13.0.tar.gz PackageFileSize: 3.33 MiB