Package: cogeqc Version: 1.13.0 Command: /Library/Frameworks/R.framework/Resources/bin/R CMD check --install=check:cogeqc.install-out.txt --library=/Library/Frameworks/R.framework/Resources/library --no-vignettes --timings cogeqc_1.13.0.tar.gz StartedAt: 2025-07-21 18:37:39 -0400 (Mon, 21 Jul 2025) EndedAt: 2025-07-21 18:38:42 -0400 (Mon, 21 Jul 2025) EllapsedTime: 62.7 seconds RetCode: 0 Status: OK CheckDir: cogeqc.Rcheck Warnings: 0