Package: codelink Version: 1.77.0 Command: F:\biocbuild\bbs-3.22-bioc\R\bin\R.exe CMD check --no-multiarch --install=check:codelink.install-out.txt --library=F:\biocbuild\bbs-3.22-bioc\R\library --no-vignettes --timings codelink_1.77.0.tar.gz StartedAt: 2025-07-22 00:43:12 -0400 (Tue, 22 Jul 2025) EndedAt: 2025-07-22 00:45:33 -0400 (Tue, 22 Jul 2025) EllapsedTime: 140.7 seconds RetCode: 0 Status: OK CheckDir: codelink.Rcheck Warnings: 0