Package: codelink Version: 1.77.0 Command: rm -rf codelink.buildbin-libdir && mkdir codelink.buildbin-libdir && F:\biocbuild\bbs-3.22-bioc\R\bin\R.exe CMD INSTALL --build --library=codelink.buildbin-libdir codelink_1.77.0.tar.gz StartedAt: 2025-07-21 08:47:38 -0400 (Mon, 21 Jul 2025) EndedAt: 2025-07-21 08:48:47 -0400 (Mon, 21 Jul 2025) EllapsedTime: 68.5 seconds RetCode: 0 Status: OK PackageFile: codelink_1.77.0.zip PackageFileSize: 3.574 MiB