Package: coRdon Version: 1.27.0 Command: /home/biocbuild/R/R/bin/R CMD INSTALL coRdon StartedAt: 2025-07-17 20:25:49 -0000 (Thu, 17 Jul 2025) EndedAt: 2025-07-17 20:26:09 -0000 (Thu, 17 Jul 2025) EllapsedTime: 20.1 seconds RetCode: 0 Status: OK