Package: coRdon Version: 1.27.0 Command: /home/biocbuild/R/R/bin/R CMD check --install=check:coRdon.install-out.txt --library=/home/biocbuild/R/R/site-library --no-vignettes --timings coRdon_1.27.0.tar.gz StartedAt: 2025-07-18 05:37:27 -0000 (Fri, 18 Jul 2025) EndedAt: 2025-07-18 05:39:48 -0000 (Fri, 18 Jul 2025) EllapsedTime: 141.1 seconds RetCode: 0 Status: OK CheckDir: coRdon.Rcheck Warnings: 0