Package: coRdon Version: 1.27.0 Command: /home/biocbuild/R/R/bin/R CMD build --keep-empty-dirs --no-resave-data coRdon StartedAt: 2025-07-17 23:00:02 -0000 (Thu, 17 Jul 2025) EndedAt: 2025-07-17 23:01:22 -0000 (Thu, 17 Jul 2025) EllapsedTime: 80.0 seconds RetCode: 0 Status: OK PackageFile: coRdon_1.27.0.tar.gz PackageFileSize: 1.251 MiB