Package: coRdon Version: 1.27.0 Command: F:\biocbuild\bbs-3.22-bioc\R\bin\R.exe CMD check --no-multiarch --install=check:coRdon.install-out.txt --library=F:\biocbuild\bbs-3.22-bioc\R\library --no-vignettes --timings coRdon_1.27.0.tar.gz StartedAt: 2025-07-08 00:44:11 -0400 (Tue, 08 Jul 2025) EndedAt: 2025-07-08 00:46:39 -0400 (Tue, 08 Jul 2025) EllapsedTime: 148.4 seconds RetCode: 0 Status: OK CheckDir: coRdon.Rcheck Warnings: 0