Package: coMethDMR Version: 1.13.0 Command: F:\biocbuild\bbs-3.22-bioc\R\bin\R.exe CMD INSTALL coMethDMR StartedAt: 2025-07-16 16:00:35 -0400 (Wed, 16 Jul 2025) EndedAt: 2025-07-16 16:01:41 -0400 (Wed, 16 Jul 2025) EllapsedTime: 65.5 seconds RetCode: 0 Status: OK