Package: coMethDMR Version: 1.13.0 Command: rm -rf coMethDMR.buildbin-libdir && mkdir coMethDMR.buildbin-libdir && F:\biocbuild\bbs-3.22-bioc\R\bin\R.exe CMD INSTALL --build --library=coMethDMR.buildbin-libdir coMethDMR_1.13.0.tar.gz StartedAt: 2025-07-17 08:42:57 -0400 (Thu, 17 Jul 2025) EndedAt: 2025-07-17 08:44:11 -0400 (Thu, 17 Jul 2025) EllapsedTime: 73.3 seconds RetCode: 0 Status: OK PackageFile: coMethDMR_1.13.0.zip PackageFileSize: 3.157 MiB