Package: coMethDMR Version: 1.13.0 Command: /Library/Frameworks/R.framework/Resources/bin/R CMD build --keep-empty-dirs --no-resave-data coMethDMR StartedAt: 2025-10-05 16:30:14 -0400 (Sun, 05 Oct 2025) EndedAt: 2025-10-05 16:34:35 -0400 (Sun, 05 Oct 2025) EllapsedTime: 260.5 seconds RetCode: 0 Status: OK PackageFile: coMethDMR_1.13.0.tar.gz PackageFileSize: 3.103 MiB