Package: coMET Version: 1.39.1 Command: F:\biocbuild\bbs-3.22-bioc\R\bin\R.exe CMD INSTALL coMET StartedAt: 2025-04-08 17:06:12 -0400 (Tue, 08 Apr 2025) EndedAt: 2025-04-08 17:08:07 -0400 (Tue, 08 Apr 2025) EllapsedTime: 115.5 seconds RetCode: 0 Status: OK