Package: coMET Version: 1.39.1 Command: chmod a+r coMET -R && F:\biocbuild\bbs-3.22-bioc\R\bin\R.exe CMD build --keep-empty-dirs --no-resave-data coMET StartedAt: 2025-04-08 18:18:16 -0400 (Tue, 08 Apr 2025) EndedAt: 2025-04-08 18:20:53 -0400 (Tue, 08 Apr 2025) EllapsedTime: 157.1 seconds RetCode: 1 Status: ERROR PackageFile: None PackageFileSize: NA