Package: coMET Version: 1.39.1 Command: /home/biocbuild/bbs-3.22-bioc/R/bin/R CMD INSTALL coMET StartedAt: 2025-04-08 15:57:43 -0400 (Tue, 08 Apr 2025) EndedAt: 2025-04-08 15:58:37 -0400 (Tue, 08 Apr 2025) EllapsedTime: 54.1 seconds RetCode: 0 Status: OK