Package: coGPS Version: 1.53.0 Command: F:\biocbuild\bbs-3.22-bioc\R\bin\R.exe CMD INSTALL coGPS StartedAt: 2025-08-14 15:18:19 -0400 (Thu, 14 Aug 2025) EndedAt: 2025-08-14 15:18:26 -0400 (Thu, 14 Aug 2025) EllapsedTime: 7.9 seconds RetCode: 0 Status: OK