Package: coGPS Version: 1.53.0 Command: F:\biocbuild\bbs-3.22-bioc\R\bin\R.exe CMD check --no-multiarch --install=check:coGPS.install-out.txt --library=F:\biocbuild\bbs-3.22-bioc\R\library --no-vignettes --timings coGPS_1.53.0.tar.gz StartedAt: 2025-08-15 01:51:07 -0400 (Fri, 15 Aug 2025) EndedAt: 2025-08-15 01:51:46 -0400 (Fri, 15 Aug 2025) EllapsedTime: 39.2 seconds RetCode: 0 Status: OK CheckDir: coGPS.Rcheck Warnings: 0