Package: coGPS Version: 1.53.0 Command: chmod a+r coGPS -R && F:\biocbuild\bbs-3.22-bioc\R\bin\R.exe CMD build --keep-empty-dirs --no-resave-data coGPS StartedAt: 2025-08-14 19:14:52 -0400 (Thu, 14 Aug 2025) EndedAt: 2025-08-14 19:15:08 -0400 (Thu, 14 Aug 2025) EllapsedTime: 16.2 seconds RetCode: 0 Status: OK PackageFile: coGPS_1.53.0.tar.gz PackageFileSize: 1.64 MiB