Package: coGPS Version: 1.53.0 Command: rm -rf coGPS.buildbin-libdir && mkdir coGPS.buildbin-libdir && F:\biocbuild\bbs-3.22-bioc\R\bin\R.exe CMD INSTALL --build --library=coGPS.buildbin-libdir coGPS_1.53.0.tar.gz StartedAt: 2025-08-15 10:00:16 -0400 (Fri, 15 Aug 2025) EndedAt: 2025-08-15 10:00:28 -0400 (Fri, 15 Aug 2025) EllapsedTime: 11.9 seconds RetCode: 0 Status: OK PackageFile: coGPS_1.53.0.zip PackageFileSize: 1.67 MiB