Package: cnvGSA Version: 1.53.0 Command: /home/biocbuild/R/R/bin/R CMD INSTALL cnvGSA StartedAt: 2025-10-09 21:08:21 -0000 (Thu, 09 Oct 2025) EndedAt: 2025-10-09 21:08:34 -0000 (Thu, 09 Oct 2025) EllapsedTime: 13.5 seconds RetCode: 0 Status: OK