Package: cnvGSA Version: 1.53.0 Command: /home/biocbuild/R/R/bin/R CMD build --keep-empty-dirs --no-resave-data cnvGSA StartedAt: 2025-10-09 23:38:34 -0000 (Thu, 09 Oct 2025) EndedAt: 2025-10-09 23:38:50 -0000 (Thu, 09 Oct 2025) EllapsedTime: 16.0 seconds RetCode: 0 Status: OK PackageFile: cnvGSA_1.53.0.tar.gz PackageFileSize: 330.5 KiB