Package: cnvGSA Version: 1.53.0 Command: F:\biocbuild\bbs-3.22-bioc\R\bin\R.exe CMD INSTALL cnvGSA StartedAt: 2025-07-24 15:55:10 -0400 (Thu, 24 Jul 2025) EndedAt: 2025-07-24 15:55:29 -0400 (Thu, 24 Jul 2025) EllapsedTime: 19.1 seconds RetCode: 0 Status: OK