Package: cnvGSA Version: 1.53.0 Command: /home/biocbuild/bbs-3.22-bioc/R/bin/R CMD INSTALL cnvGSA StartedAt: 2025-07-21 15:21:00 -0400 (Mon, 21 Jul 2025) EndedAt: 2025-07-21 15:21:09 -0400 (Mon, 21 Jul 2025) EllapsedTime: 9.8 seconds RetCode: 0 Status: OK