Package: cnvGSA Version: 1.53.0 Command: /home/biocbuild/bbs-3.22-bioc/R/bin/R CMD build --keep-empty-dirs --no-resave-data --md5 cnvGSA StartedAt: 2025-07-21 16:45:13 -0400 (Mon, 21 Jul 2025) EndedAt: 2025-07-21 16:45:26 -0400 (Mon, 21 Jul 2025) EllapsedTime: 13.0 seconds RetCode: 0 Status: OK PackageFile: cnvGSA_1.53.0.tar.gz PackageFileSize: 334.7 KiB