Package: cnvGSA Version: 1.53.0 Command: /Library/Frameworks/R.framework/Resources/bin/R CMD check --install=check:cnvGSA.install-out.txt --library=/Library/Frameworks/R.framework/Resources/library --no-vignettes --timings cnvGSA_1.53.0.tar.gz StartedAt: 2025-07-22 19:53:08 -0400 (Tue, 22 Jul 2025) EndedAt: 2025-07-22 19:54:33 -0400 (Tue, 22 Jul 2025) EllapsedTime: 85.1 seconds RetCode: 0 Status: OK CheckDir: cnvGSA.Rcheck Warnings: 0