Package: cnvGSA Version: 1.53.0 Command: /Library/Frameworks/R.framework/Resources/bin/R CMD INSTALL cnvGSA StartedAt: 2025-10-08 15:14:15 -0400 (Wed, 08 Oct 2025) EndedAt: 2025-10-08 15:14:20 -0400 (Wed, 08 Oct 2025) EllapsedTime: 4.5 seconds RetCode: 0 Status: OK