Package: cnvGSA Version: 1.53.0 Maintainer: Joseph Lugo MaintainerEmail: joseph.r.lugo at gmail.com git_url: https://git.bioconductor.org/packages/cnvGSA git_branch: devel git_last_commit: ce19d89 git_last_commit_date: 2025-04-15 10:13:21 -0400 (Tue, 15 Apr 2025)