Package: cn.farms Version: 1.57.2 Command: /home/biocbuild/R/R/bin/R CMD INSTALL cn.farms StartedAt: 2025-07-24 21:45:34 -0000 (Thu, 24 Jul 2025) EndedAt: 2025-07-24 21:46:14 -0000 (Thu, 24 Jul 2025) EllapsedTime: 40.2 seconds RetCode: 0 Status: OK