Package: cn.farms Version: 1.57.1 Command: /home/biocbuild/bbs-3.22-bioc/R/bin/R CMD build --keep-empty-dirs --no-resave-data --md5 cn.farms StartedAt: 2025-07-14 16:42:04 -0400 (Mon, 14 Jul 2025) EndedAt: 2025-07-14 16:42:52 -0400 (Mon, 14 Jul 2025) EllapsedTime: 48.1 seconds RetCode: 0 Status: OK PackageFile: cn.farms_1.57.1.tar.gz PackageFileSize: 2.294 MiB