Package: cn.farms Version: 1.57.2 Command: rm -rf cn.farms.buildbin-libdir && mkdir cn.farms.buildbin-libdir && /Users/biocbuild/BBS/utils/build-universal.sh cn.farms_1.57.2.tar.gz /Library/Frameworks/R.framework/Resources/bin/R cn.farms.buildbin-libdir StartedAt: 2025-07-23 00:59:27 -0400 (Wed, 23 Jul 2025) EndedAt: 2025-07-23 01:00:15 -0400 (Wed, 23 Jul 2025) EllapsedTime: 48.7 seconds RetCode: 0 Status: OK PackageFile: cn.farms_1.57.2.tgz PackageFileSize: 2.466 MiB