Package: cn.farms Version: 1.57.2 Command: /Library/Frameworks/R.framework/Resources/bin/R CMD build --keep-empty-dirs --no-resave-data cn.farms StartedAt: 2025-07-22 15:54:49 -0400 (Tue, 22 Jul 2025) EndedAt: 2025-07-22 15:55:09 -0400 (Tue, 22 Jul 2025) EllapsedTime: 20.2 seconds RetCode: 0 Status: OK PackageFile: cn.farms_1.57.2.tar.gz PackageFileSize: 2.29 MiB