Package: cmapR Version: 1.21.0 Command: rm -rf cmapR.buildbin-libdir && mkdir cmapR.buildbin-libdir && F:\biocbuild\bbs-3.22-bioc\R\bin\R.exe CMD INSTALL --build --library=cmapR.buildbin-libdir cmapR_1.21.0.tar.gz StartedAt: 2025-08-15 09:59:12 -0400 (Fri, 15 Aug 2025) EndedAt: 2025-08-15 10:00:08 -0400 (Fri, 15 Aug 2025) EllapsedTime: 55.7 seconds RetCode: 0 Status: OK PackageFile: cmapR_1.21.0.zip PackageFileSize: 3.887 MiB