############################################################################## ############################################################################## ### ### Running command: ### ### chmod a+r clusterExperiment -R && F:\biocbuild\bbs-3.22-bioc\R\bin\R.exe CMD build --keep-empty-dirs --no-resave-data clusterExperiment ### ############################################################################## ############################################################################## * checking for file 'clusterExperiment/DESCRIPTION' ... OK * preparing 'clusterExperiment': * checking DESCRIPTION meta-information ... OK * cleaning src * installing the package to build vignettes ----------------------------------- ERROR: dependency 'mbkmeans' is not available for package 'clusterExperiment' Perhaps try a variation of: install.packages('mbkmeans') * removing 'F:/biocbuild/bbs-3.22-bioc/tmpdir/RtmpCO8Blm/Rinst1d014315944fa/clusterExperiment' ----------------------------------- ERROR: package installation failed