Package: clustSIGNAL Version: 1.1.0 Command: chmod a+r clustSIGNAL -R && F:\biocbuild\bbs-3.22-bioc\R\bin\R.exe CMD build --keep-empty-dirs --no-resave-data clustSIGNAL StartedAt: 2025-07-11 18:03:29 -0400 (Fri, 11 Jul 2025) EndedAt: 2025-07-11 18:06:20 -0400 (Fri, 11 Jul 2025) EllapsedTime: 171.1 seconds RetCode: 0 Status: OK PackageFile: clustSIGNAL_1.1.0.tar.gz PackageFileSize: 4.355 MiB