Package: clustSIGNAL Version: 1.1.0 Command: rm -rf clustSIGNAL.buildbin-libdir && mkdir clustSIGNAL.buildbin-libdir && F:\biocbuild\bbs-3.22-bioc\R\bin\R.exe CMD INSTALL --build --library=clustSIGNAL.buildbin-libdir clustSIGNAL_1.1.0.tar.gz StartedAt: 2025-07-12 08:34:51 -0400 (Sat, 12 Jul 2025) EndedAt: 2025-07-12 08:35:26 -0400 (Sat, 12 Jul 2025) EllapsedTime: 35.0 seconds RetCode: 0 Status: OK PackageFile: clustSIGNAL_1.1.0.zip PackageFileSize: 4.393 MiB